BEGIN:VCALENDAR
VERSION:2.0
PRODID:-//Hillingdon West Scouts - ECPv6.2.9//NONSGML v1.0//EN
CALSCALE:GREGORIAN
METHOD:PUBLISH
X-ORIGINAL-URL:https://hillingdonwestscouts.org.uk
X-WR-CALDESC:Events for Hillingdon West Scouts
REFRESH-INTERVAL;VALUE=DURATION:PT1H
X-Robots-Tag:noindex
X-PUBLISHED-TTL:PT1H
BEGIN:VTIMEZONE
TZID:Europe/London
BEGIN:DAYLIGHT
TZOFFSETFROM:+0000
TZOFFSETTO:+0100
TZNAME:BST
DTSTART:20250330T010000
END:DAYLIGHT
BEGIN:STANDARD
TZOFFSETFROM:+0100
TZOFFSETTO:+0000
TZNAME:GMT
DTSTART:20251026T010000
END:STANDARD
END:VTIMEZONE
BEGIN:VEVENT
DTSTART;TZID=Europe/London:20250121T200000
DTEND;TZID=Europe/London:20250121T220000
DTSTAMP:20260424T124225
CREATED:20241008T204257Z
LAST-MODIFIED:20250108T204057Z
UID:319-1737489600-1737496800@hillingdonwestscouts.org.uk
SUMMARY:Trustee meeting
DESCRIPTION:
URL:https://hillingdonwestscouts.org.uk/event/trustee-meeting-5/
LOCATION:Perseverance HQ\, 118 Sweetcroft Ln\, UB10 9LQ\, United Kingdom
END:VEVENT
END:VCALENDAR