BEGIN:VCALENDAR
VERSION:2.0
PRODID:-//Hillingdon West Scouts - ECPv6.2.9//NONSGML v1.0//EN
CALSCALE:GREGORIAN
METHOD:PUBLISH
X-WR-CALNAME:Hillingdon West Scouts
X-ORIGINAL-URL:https://hillingdonwestscouts.org.uk
X-WR-CALDESC:Events for Hillingdon West Scouts
REFRESH-INTERVAL;VALUE=DURATION:PT1H
X-Robots-Tag:noindex
X-PUBLISHED-TTL:PT1H
BEGIN:VTIMEZONE
TZID:Europe/London
BEGIN:DAYLIGHT
TZOFFSETFROM:+0000
TZOFFSETTO:+0100
TZNAME:BST
DTSTART:20240331T010000
END:DAYLIGHT
BEGIN:STANDARD
TZOFFSETFROM:+0100
TZOFFSETTO:+0000
TZNAME:GMT
DTSTART:20241027T010000
END:STANDARD
END:VTIMEZONE
BEGIN:VEVENT
DTSTART;TZID=Europe/London:20241106T200000
DTEND;TZID=Europe/London:20241106T200000
DTSTAMP:20260422T024518
CREATED:20231224T175439Z
LAST-MODIFIED:20231224T175439Z
UID:204-1730923200-1730923200@hillingdonwestscouts.org.uk
SUMMARY:District Team Meeting
DESCRIPTION:
URL:https://hillingdonwestscouts.org.uk/event/district-team-meeting-4/
LOCATION:5th Hayes\, Arden Close\, Hayes\, UB4 9UZ\, United Kingdom
CATEGORIES:Team Meeting
END:VEVENT
BEGIN:VEVENT
DTSTART;TZID=Europe/London:20241106T200000
DTEND;TZID=Europe/London:20241106T210000
DTSTAMP:20260422T024518
CREATED:20240108T212534Z
LAST-MODIFIED:20240108T212534Z
UID:232-1730923200-1730926800@hillingdonwestscouts.org.uk
SUMMARY:District Training Evening
DESCRIPTION:
URL:https://hillingdonwestscouts.org.uk/event/district-training-evening-7/
LOCATION:2nd West Drayton\, 69 Rowan Rd\, West Drayton\, UB7 7UG\, United Kingdom
CATEGORIES:Training Meeting
END:VEVENT
END:VCALENDAR