BEGIN:VCALENDAR
VERSION:2.0
PRODID:-//Hillingdon West Scouts - ECPv6.2.9//NONSGML v1.0//EN
CALSCALE:GREGORIAN
METHOD:PUBLISH
X-WR-CALNAME:Hillingdon West Scouts
X-ORIGINAL-URL:https://hillingdonwestscouts.org.uk
X-WR-CALDESC:Events for Hillingdon West Scouts
REFRESH-INTERVAL;VALUE=DURATION:PT1H
X-Robots-Tag:noindex
X-PUBLISHED-TTL:PT1H
BEGIN:VTIMEZONE
TZID:Europe/London
BEGIN:DAYLIGHT
TZOFFSETFROM:+0000
TZOFFSETTO:+0100
TZNAME:BST
DTSTART:20240331T010000
END:DAYLIGHT
BEGIN:STANDARD
TZOFFSETFROM:+0100
TZOFFSETTO:+0000
TZNAME:GMT
DTSTART:20241027T010000
END:STANDARD
END:VTIMEZONE
BEGIN:VEVENT
DTSTART;TZID=Europe/London:20240701T200000
DTEND;TZID=Europe/London:20240701T210000
DTSTAMP:20260425T140417
CREATED:20240108T212230Z
LAST-MODIFIED:20240108T212230Z
UID:228-1719864000-1719867600@hillingdonwestscouts.org.uk
SUMMARY:District Training Evening
DESCRIPTION:
URL:https://hillingdonwestscouts.org.uk/event/district-training-evening-5/
LOCATION:2nd West Drayton\, 69 Rowan Rd\, West Drayton\, UB7 7UG\, United Kingdom
CATEGORIES:Training Meeting
END:VEVENT
BEGIN:VEVENT
DTSTART;TZID=Europe/London:20240622T070000
DTEND;TZID=Europe/London:20240623T180000
DTSTAMP:20260425T140417
CREATED:20231130T230448Z
LAST-MODIFIED:20231212T202319Z
UID:112-1719039600-1719165600@hillingdonwestscouts.org.uk
SUMMARY:Hike challenge
DESCRIPTION:
URL:https://hillingdonwestscouts.org.uk/event/hike-challenge/
END:VEVENT
BEGIN:VEVENT
DTSTART;TZID=Europe/London:20240616T110000
DTEND;TZID=Europe/London:20240616T160000
DTSTAMP:20260425T140417
CREATED:20231130T230418Z
LAST-MODIFIED:20240207T211136Z
UID:103-1718535600-1718553600@hillingdonwestscouts.org.uk
SUMMARY:Hayes Canal Festival
DESCRIPTION:
URL:https://hillingdonwestscouts.org.uk/event/hayes-canal-festival/
END:VEVENT
BEGIN:VEVENT
DTSTART;TZID=Europe/London:20240611T200000
DTEND;TZID=Europe/London:20240611T200000
DTSTAMP:20260425T140417
CREATED:20231224T175441Z
LAST-MODIFIED:20231224T175441Z
UID:210-1718136000-1718136000@hillingdonwestscouts.org.uk
SUMMARY:District Team Meeting
DESCRIPTION:
URL:https://hillingdonwestscouts.org.uk/event/district-team-meeting-6/
LOCATION:5th Hayes\, Arden Close\, Hayes\, UB4 9UZ\, United Kingdom
CATEGORIES:Team Meeting
END:VEVENT
BEGIN:VEVENT
DTSTART;TZID=Europe/London:20240609T083000
DTEND;TZID=Europe/London:20240609T160000
DTSTAMP:20260425T140417
CREATED:20231212T202646Z
LAST-MODIFIED:20231212T202646Z
UID:181-1717921800-1717948800@hillingdonwestscouts.org.uk
SUMMARY:Cubs and Beavers Funday
DESCRIPTION:
URL:https://hillingdonwestscouts.org.uk/event/cubs-and-beavers-funday/
END:VEVENT
BEGIN:VEVENT
DTSTART;TZID=Europe/London:20240608T083000
DTEND;TZID=Europe/London:20240608T160000
DTSTAMP:20260425T140417
CREATED:20231130T230348Z
LAST-MODIFIED:20231212T202559Z
UID:95-1717835400-1717862400@hillingdonwestscouts.org.uk
SUMMARY:Cubs and Beavers Funday
DESCRIPTION:
URL:https://hillingdonwestscouts.org.uk/event/cubs-beavers-funday-sat-2024/
CATEGORIES:Beavers Program,Cubs Program
END:VEVENT
BEGIN:VEVENT
DTSTART;TZID=Europe/London:20240603T200000
DTEND;TZID=Europe/London:20240603T210000
DTSTAMP:20260425T140417
CREATED:20240108T212137Z
LAST-MODIFIED:20240108T212137Z
UID:226-1717444800-1717448400@hillingdonwestscouts.org.uk
SUMMARY:District Training Evening
DESCRIPTION:
URL:https://hillingdonwestscouts.org.uk/event/district-training-evening-4/
LOCATION:5th Hayes\, Arden Close\, Hayes\, UB4 9UZ\, United Kingdom
CATEGORIES:Training Meeting
END:VEVENT
BEGIN:VEVENT
DTSTART;TZID=Europe/London:20240531T160000
DTEND;TZID=Europe/London:20240602T170000
DTSTAMP:20260425T140417
CREATED:20231104T213655Z
LAST-MODIFIED:20231212T202720Z
UID:68-1717171200-1717347600@hillingdonwestscouts.org.uk
SUMMARY:District Camp 2024
DESCRIPTION:
URL:https://hillingdonwestscouts.org.uk/event/district-camp-2024/
LOCATION:PACCAR Scout Camp\, Paccar Scout Camp\, SL90QJ\, United Kingdom
END:VEVENT
BEGIN:VEVENT
DTSTART;TZID=Europe/London:20240522T200000
DTEND;TZID=Europe/London:20240522T200000
DTSTAMP:20260425T140417
CREATED:20231224T175439Z
LAST-MODIFIED:20231224T175847Z
UID:203-1716408000-1716408000@hillingdonwestscouts.org.uk
SUMMARY:GSL/Leadership Team Meeting
DESCRIPTION:
URL:https://hillingdonwestscouts.org.uk/event/gsl-leadership-team-meeting-2/
LOCATION:Perseverance HQ\, 118 Sweetcroft Ln\, UB10 9LQ\, United Kingdom
CATEGORIES:Team Meeting
END:VEVENT
BEGIN:VEVENT
DTSTART;VALUE=DATE:20240520
DTEND;VALUE=DATE:20240522
DTSTAMP:20260425T140417
CREATED:20231130T230347Z
LAST-MODIFIED:20231212T200345Z
UID:91-1716163200-1716249600@hillingdonwestscouts.org.uk
SUMMARY:District AGM
DESCRIPTION:
URL:https://hillingdonwestscouts.org.uk/event/district-agm/
END:VEVENT
BEGIN:VEVENT
DTSTART;TZID=Europe/London:20240515T200000
DTEND;TZID=Europe/London:20240515T220000
DTSTAMP:20260425T140417
CREATED:20231224T175439Z
LAST-MODIFIED:20240307T213256Z
UID:201-1715803200-1715810400@hillingdonwestscouts.org.uk
SUMMARY:District Team Meeting
DESCRIPTION:
URL:https://hillingdonwestscouts.org.uk/event/district-team-meeting-3/
LOCATION:5th Hayes\, Arden Close\, Hayes\, UB4 9UZ\, United Kingdom
CATEGORIES:Team Meeting
END:VEVENT
BEGIN:VEVENT
DTSTART;VALUE=DATE:20240512
DTEND;VALUE=DATE:20240514
DTSTAMP:20260425T140417
CREATED:20231130T230348Z
LAST-MODIFIED:20231212T200322Z
UID:94-1715472000-1715558400@hillingdonwestscouts.org.uk
SUMMARY:Beaver Science Badge
DESCRIPTION:
URL:https://hillingdonwestscouts.org.uk/event/beaver-science-badge/
CATEGORIES:Beavers Program
END:VEVENT
BEGIN:VEVENT
DTSTART;TZID=Europe/London:20240504T090000
DTEND;TZID=Europe/London:20240504T170000
DTSTAMP:20260425T140417
CREATED:20231130T230433Z
LAST-MODIFIED:20231212T202800Z
UID:111-1714813200-1714842000@hillingdonwestscouts.org.uk
SUMMARY:Scout Hike Skills builder
DESCRIPTION:
URL:https://hillingdonwestscouts.org.uk/event/scout-hike-skills-builder/
CATEGORIES:Scouts Program
END:VEVENT
BEGIN:VEVENT
DTSTART;TZID=Europe/London:20240430T200000
DTEND;TZID=Europe/London:20240430T200000
DTSTAMP:20260425T140417
CREATED:20231130T230347Z
LAST-MODIFIED:20231224T173250Z
UID:90-1714507200-1714507200@hillingdonwestscouts.org.uk
SUMMARY:Trustee Meeting
DESCRIPTION:
URL:https://hillingdonwestscouts.org.uk/event/trustee-meeting-2/
LOCATION:Perseverance HQ\, 118 Sweetcroft Ln\, UB10 9LQ\, United Kingdom
END:VEVENT
END:VCALENDAR