BEGIN:VCALENDAR
VERSION:2.0
PRODID:-//Hillingdon West Scouts - ECPv6.2.9//NONSGML v1.0//EN
CALSCALE:GREGORIAN
METHOD:PUBLISH
X-WR-CALNAME:Hillingdon West Scouts
X-ORIGINAL-URL:https://hillingdonwestscouts.org.uk
X-WR-CALDESC:Events for Hillingdon West Scouts
REFRESH-INTERVAL;VALUE=DURATION:PT1H
X-Robots-Tag:noindex
X-PUBLISHED-TTL:PT1H
BEGIN:VTIMEZONE
TZID:Europe/London
BEGIN:DAYLIGHT
TZOFFSETFROM:+0000
TZOFFSETTO:+0100
TZNAME:BST
DTSTART:20240331T010000
END:DAYLIGHT
BEGIN:STANDARD
TZOFFSETFROM:+0100
TZOFFSETTO:+0000
TZNAME:GMT
DTSTART:20241027T010000
END:STANDARD
END:VTIMEZONE
BEGIN:VEVENT
DTSTART;VALUE=DATE:20240906
DTEND;VALUE=DATE:20240910
DTSTAMP:20260424T225902
CREATED:20231130T230348Z
LAST-MODIFIED:20231212T200726Z
UID:96-1725580800-1725840000@hillingdonwestscouts.org.uk
SUMMARY:Beaver Tipi Sleepover
DESCRIPTION:
URL:https://hillingdonwestscouts.org.uk/event/beaver-tipi-sleepover/
CATEGORIES:Beavers Program
END:VEVENT
BEGIN:VEVENT
DTSTART;VALUE=DATE:20240915
DTEND;VALUE=DATE:20240917
DTSTAMP:20260424T225902
CREATED:20231130T230448Z
LAST-MODIFIED:20231212T200754Z
UID:116-1726358400-1726444800@hillingdonwestscouts.org.uk
SUMMARY:Cubs and Scouts Activity Day
DESCRIPTION:
URL:https://hillingdonwestscouts.org.uk/event/cubs-and-scouts-activity-day/
CATEGORIES:Cubs Program,Scouts Program
END:VEVENT
BEGIN:VEVENT
DTSTART;TZID=Europe/London:20240918T200000
DTEND;TZID=Europe/London:20240918T220000
DTSTAMP:20260424T225902
CREATED:20240910T192901Z
LAST-MODIFIED:20240910T192901Z
UID:284-1726689600-1726696800@hillingdonwestscouts.org.uk
SUMMARY:GSLs meeting
DESCRIPTION:
URL:https://hillingdonwestscouts.org.uk/event/gsls-meeting-3/
LOCATION:Perseverance HQ\, 118 Sweetcroft Ln\, UB10 9LQ\, United Kingdom
END:VEVENT
BEGIN:VEVENT
DTSTART;VALUE=DATE:20240921
DTEND;VALUE=DATE:20240923
DTSTAMP:20260424T225902
CREATED:20231130T230448Z
LAST-MODIFIED:20231212T201020Z
UID:115-1726876800-1726963200@hillingdonwestscouts.org.uk
SUMMARY:Scouts DIY Skills Builder
DESCRIPTION:
URL:https://hillingdonwestscouts.org.uk/event/scouts-diy-skills-builder/
CATEGORIES:Scouts Program
END:VEVENT
END:VCALENDAR