BEGIN:VCALENDAR
VERSION:2.0
PRODID:-//Hillingdon West Scouts - ECPv6.2.9//NONSGML v1.0//EN
CALSCALE:GREGORIAN
METHOD:PUBLISH
X-ORIGINAL-URL:https://hillingdonwestscouts.org.uk
X-WR-CALDESC:Events for Hillingdon West Scouts
REFRESH-INTERVAL;VALUE=DURATION:PT1H
X-Robots-Tag:noindex
X-PUBLISHED-TTL:PT1H
BEGIN:VTIMEZONE
TZID:Europe/London
BEGIN:DAYLIGHT
TZOFFSETFROM:+0000
TZOFFSETTO:+0100
TZNAME:BST
DTSTART:20240331T010000
END:DAYLIGHT
BEGIN:STANDARD
TZOFFSETFROM:+0100
TZOFFSETTO:+0000
TZNAME:GMT
DTSTART:20241027T010000
END:STANDARD
END:VTIMEZONE
BEGIN:VEVENT
DTSTART;VALUE=DATE:20241204
DTEND;VALUE=DATE:20241206
DTSTAMP:20260424T124236
CREATED:20231130T230518Z
LAST-MODIFIED:20231212T201609Z
UID:122-1733270400-1733356800@hillingdonwestscouts.org.uk
SUMMARY:Scouts Bowling Night
DESCRIPTION:
URL:https://hillingdonwestscouts.org.uk/event/scouts-bowling-night/
CATEGORIES:Scouts Program
END:VEVENT
BEGIN:VEVENT
DTSTART;TZID=Europe/London:20241205T190000
DTEND;TZID=Europe/London:20241205T190000
DTSTAMP:20260424T124236
CREATED:20231130T230403Z
LAST-MODIFIED:20240124T232522Z
UID:101-1733425200-1733425200@hillingdonwestscouts.org.uk
SUMMARY:Cubs Bowling Competition
DESCRIPTION:
URL:https://hillingdonwestscouts.org.uk/event/cubs-bowling-competition/
LOCATION:Airport Bowl\, Airport Bowl\, Bath Rd\, Harlington\, UB3 5AL\, United Kingdom
CATEGORIES:Cubs Program
END:VEVENT
BEGIN:VEVENT
DTSTART;TZID=Europe/London:20241209T200000
DTEND;TZID=Europe/London:20241209T200000
DTSTAMP:20260424T124236
CREATED:20231224T175441Z
LAST-MODIFIED:20231224T175441Z
UID:207-1733774400-1733774400@hillingdonwestscouts.org.uk
SUMMARY:District Team Meeting
DESCRIPTION:
URL:https://hillingdonwestscouts.org.uk/event/district-team-meeting-5/
LOCATION:5th Hayes\, Arden Close\, Hayes\, UB4 9UZ\, United Kingdom
CATEGORIES:Team Meeting
END:VEVENT
BEGIN:VEVENT
DTSTART;TZID=Europe/London:20241211T200000
DTEND;TZID=Europe/London:20241211T200000
DTSTAMP:20260424T124236
CREATED:20240910T194802Z
LAST-MODIFIED:20241119T190035Z
UID:290-1733947200-1733947200@hillingdonwestscouts.org.uk
SUMMARY:District Christmas Leaders meeting
DESCRIPTION:
URL:https://hillingdonwestscouts.org.uk/event/district-leaders-meeting/
LOCATION:Meadow School\, Royal Ln\, UB8 3QU\, United Kingdom
END:VEVENT
BEGIN:VEVENT
DTSTART;TZID=Europe/London:20241215T150000
DTEND;TZID=Europe/London:20241215T170000
DTSTAMP:20260424T124236
CREATED:20240910T201733Z
LAST-MODIFIED:20240910T201733Z
UID:295-1734274800-1734282000@hillingdonwestscouts.org.uk
SUMMARY:Beaver Disco
DESCRIPTION:
URL:https://hillingdonwestscouts.org.uk/event/beaver-disco/
LOCATION:Perseverance HQ\, 118 Sweetcroft Ln\, UB10 9LQ\, United Kingdom
END:VEVENT
END:VCALENDAR